BEGIN:VCALENDAR
VERSION:2.0
PRODID:-//Asociación Médica del Instituto Nacional de Pediatría - ECPv6.2.0.1//NONSGML v1.0//EN
CALSCALE:GREGORIAN
METHOD:PUBLISH
X-WR-CALNAME:Asociación Médica del Instituto Nacional de Pediatría
X-ORIGINAL-URL:https://aminp.org.mx
X-WR-CALDESC:Eventos para Asociación Médica del Instituto Nacional de Pediatría
REFRESH-INTERVAL;VALUE=DURATION:PT1H
X-Robots-Tag:noindex
X-PUBLISHED-TTL:PT1H
BEGIN:VTIMEZONE
TZID:America/Mexico_City
BEGIN:STANDARD
TZOFFSETFROM:-0600
TZOFFSETTO:-0600
TZNAME:CST
DTSTART:20230101T000000
END:STANDARD
END:VTIMEZONE
BEGIN:VEVENT
DTSTART;TZID=America/Mexico_City:20250325T120000
DTEND;TZID=America/Mexico_City:20250325T130000
DTSTAMP:20260421T072524
CREATED:20250324T194353Z
LAST-MODIFIED:20250324T194353Z
UID:10000056-1742904000-1742907600@aminp.org.mx
SUMMARY:Sesión Cultural - Marzo 2025
DESCRIPTION:
URL:https://aminp.org.mx/event/sesion-cultural-marzo-2025/
END:VEVENT
BEGIN:VEVENT
DTSTART;TZID=America/Mexico_City:20231027T140000
DTEND;TZID=America/Mexico_City:20231027T143000
DTSTAMP:20260421T072524
CREATED:20230828T204354Z
LAST-MODIFIED:20230828T204354Z
UID:10000049-1698415200-1698417000@aminp.org.mx
SUMMARY:CLAUSURA
DESCRIPTION:
URL:https://aminp.org.mx/event/clausura/
CATEGORIES:Día 3
END:VEVENT
BEGIN:VEVENT
DTSTART;TZID=America/Mexico_City:20231027T133000
DTEND;TZID=America/Mexico_City:20231027T140000
DTSTAMP:20260421T072524
CREATED:20230828T204331Z
LAST-MODIFIED:20231004T180139Z
UID:10000048-1698413400-1698415200@aminp.org.mx
SUMMARY:Función renalDra. Edna Idalia Osorio Contla
DESCRIPTION:
URL:https://aminp.org.mx/event/evaluacion-basica-de-la-funcion-renal/
CATEGORIES:Día 3
END:VEVENT
BEGIN:VEVENT
DTSTART;TZID=America/Mexico_City:20231027T130000
DTEND;TZID=America/Mexico_City:20231027T133000
DTSTAMP:20260421T072524
CREATED:20230828T204308Z
LAST-MODIFIED:20230922T053554Z
UID:10000047-1698411600-1698413400@aminp.org.mx
SUMMARY:Manifestaciones autoinmunes en pacientes con inmunodeficiencias. Dr. Victor Manuel Hernández Bautista
DESCRIPTION:
URL:https://aminp.org.mx/event/autoinmunidad-para-el-pediatra/
CATEGORIES:Día 3
END:VEVENT
BEGIN:VEVENT
DTSTART;TZID=America/Mexico_City:20231027T123000
DTEND;TZID=America/Mexico_City:20231027T130000
DTSTAMP:20260421T072524
CREATED:20230828T204246Z
LAST-MODIFIED:20231004T000537Z
UID:10000046-1698409800-1698411600@aminp.org.mx
SUMMARY:Vacunación influenza temporada 2023-2024Dr. Eduardo Arias de la Garza
DESCRIPTION:
URL:https://aminp.org.mx/event/esquema-de-inmunizacion-actual/
CATEGORIES:Día 3
END:VEVENT
BEGIN:VEVENT
DTSTART;TZID=America/Mexico_City:20231027T120000
DTEND;TZID=America/Mexico_City:20231027T123000
DTSTAMP:20260421T072524
CREATED:20230828T204223Z
LAST-MODIFIED:20230828T204223Z
UID:10000045-1698408000-1698409800@aminp.org.mx
SUMMARY:RECESO
DESCRIPTION:
URL:https://aminp.org.mx/event/receso-6/
CATEGORIES:Día 3
END:VEVENT
BEGIN:VEVENT
DTSTART;TZID=America/Mexico_City:20231027T110000
DTEND;TZID=America/Mexico_City:20231027T120000
DTSTAMP:20260421T072524
CREATED:20230828T204147Z
LAST-MODIFIED:20231004T000113Z
UID:10000044-1698404400-1698408000@aminp.org.mx
SUMMARY:AngioedemaDr. David Eduardo Cervantes Barragán
DESCRIPTION:
URL:https://aminp.org.mx/event/angioedema/
CATEGORIES:Día 3
END:VEVENT
BEGIN:VEVENT
DTSTART;TZID=America/Mexico_City:20231027T103000
DTEND;TZID=America/Mexico_City:20231027T110000
DTSTAMP:20260421T072524
CREATED:20230828T204127Z
LAST-MODIFIED:20231004T000055Z
UID:10000043-1698402600-1698404400@aminp.org.mx
SUMMARY:El tiempo es oro... La importancia del diagnóstico y tratamiento oportuno de las hiperamonemiasDr. Alejandro Pineda Díaz (Colombia)
DESCRIPTION:
URL:https://aminp.org.mx/event/el-tiempo-es-oro-la-importancia-del-diagnostico-y-tratamiento-oportuno-de-las-hiperamonemias/
CATEGORIES:Día 3
END:VEVENT
BEGIN:VEVENT
DTSTART;TZID=America/Mexico_City:20231027T100000
DTEND;TZID=America/Mexico_City:20231027T103000
DTSTAMP:20260421T072524
CREATED:20230828T204104Z
LAST-MODIFIED:20230828T204104Z
UID:10000042-1698400800-1698402600@aminp.org.mx
SUMMARY:RECESO
DESCRIPTION:
URL:https://aminp.org.mx/event/receso-5/
CATEGORIES:Día 3
END:VEVENT
BEGIN:VEVENT
DTSTART;TZID=America/Mexico_City:20231027T093000
DTEND;TZID=America/Mexico_City:20231027T100000
DTSTAMP:20260421T072524
CREATED:20230828T204042Z
LAST-MODIFIED:20230922T053542Z
UID:10000041-1698399000-1698400800@aminp.org.mx
SUMMARY:Utilización de Gammaglobulina humana ¿Cuándo y cómo? Dr. Marco Antonio Yamazaki Nakashimada
DESCRIPTION:
URL:https://aminp.org.mx/event/utilizacion-de-gammaglobulina-humana-cuando-y-como/
CATEGORIES:Día 3
END:VEVENT
BEGIN:VEVENT
DTSTART;TZID=America/Mexico_City:20231027T090000
DTEND;TZID=America/Mexico_City:20231027T093000
DTSTAMP:20260421T072524
CREATED:20230828T204023Z
LAST-MODIFIED:20231004T000033Z
UID:10000040-1698397200-1698399000@aminp.org.mx
SUMMARY:Indicadores de egreso y seguimiento del prematuroDra. Ma. Elena Ortega Ramírez
DESCRIPTION:
URL:https://aminp.org.mx/event/neurodesarrollo-en-el-primer-ano/
CATEGORIES:Día 3
END:VEVENT
BEGIN:VEVENT
DTSTART;TZID=America/Mexico_City:20231027T083000
DTEND;TZID=America/Mexico_City:20231027T090000
DTSTAMP:20260421T072524
CREATED:20231004T000003Z
LAST-MODIFIED:20231004T000003Z
UID:10000055-1698395400-1698397200@aminp.org.mx
SUMMARY:Niño con infecciones recurrentes: inmaduro\, alérgico\, inmunodeficienteDra. Nancy Evelyn Aguilar Gómez
DESCRIPTION:
URL:https://aminp.org.mx/event/nino-con-infecciones-recurrentes-inmaduro-alergico-inmunodeficientedra-nancy-evelyn-aguilar-gomez/
CATEGORIES:Día 3
END:VEVENT
BEGIN:VEVENT
DTSTART;TZID=America/Mexico_City:20231026T133000
DTEND;TZID=America/Mexico_City:20231026T140000
DTSTAMP:20260421T072524
CREATED:20230828T203808Z
LAST-MODIFIED:20231003T235814Z
UID:10000038-1698327000-1698328800@aminp.org.mx
SUMMARY:Linfadenopatias ¿cuándo preocupame?Dra. Ana Cecilia Ochoa Drucker
DESCRIPTION:
URL:https://aminp.org.mx/event/que-ver-en-una-radiografia-cuando-pedirla/
CATEGORIES:Día 2
END:VEVENT
BEGIN:VEVENT
DTSTART;TZID=America/Mexico_City:20231026T123000
DTEND;TZID=America/Mexico_City:20231026T133000
DTSTAMP:20260421T072524
CREATED:20230828T203715Z
LAST-MODIFIED:20231004T180052Z
UID:10000036-1698323400-1698327000@aminp.org.mx
SUMMARY:Mesa redondaFiebreDra. Martha Patricia Márquez AguirreDra. Ana María Niembro ZúñigaDr. Francisco Javier Otero MendozaDr. Francisco Eduardo Rivas Larrauri
DESCRIPTION:
URL:https://aminp.org.mx/event/fiebre-1-abordaje-infectologico/
CATEGORIES:Día 2
END:VEVENT
BEGIN:VEVENT
DTSTART;TZID=America/Mexico_City:20231026T120000
DTEND;TZID=America/Mexico_City:20231026T123000
DTSTAMP:20260421T072524
CREATED:20230828T203621Z
LAST-MODIFIED:20230828T203621Z
UID:10000035-1698321600-1698323400@aminp.org.mx
SUMMARY:RECESO
DESCRIPTION:
URL:https://aminp.org.mx/event/receso-4/
CATEGORIES:Día 2
END:VEVENT
BEGIN:VEVENT
DTSTART;TZID=America/Mexico_City:20231026T113000
DTEND;TZID=America/Mexico_City:20231026T120000
DTSTAMP:20260421T072524
CREATED:20230828T203536Z
LAST-MODIFIED:20231003T235453Z
UID:10000033-1698319800-1698321600@aminp.org.mx
SUMMARY:Evidencia y uso de inmunoestimulantesDr. Francisco Javier Espinosa Rosales
DESCRIPTION:
URL:https://aminp.org.mx/event/esta-o-no-aumentando-el-autismo/
CATEGORIES:Día 2
END:VEVENT
BEGIN:VEVENT
DTSTART;TZID=America/Mexico_City:20231026T110000
DTEND;TZID=America/Mexico_City:20231026T113000
DTSTAMP:20260421T072524
CREATED:20230828T203518Z
LAST-MODIFIED:20231003T235439Z
UID:10000032-1698318000-1698319800@aminp.org.mx
SUMMARY:Síntomas urinarios bajos ¿Todo es infección?Dr. Fabián Sánchez Sagastegui
DESCRIPTION:
URL:https://aminp.org.mx/event/depresion-en-adolescentes/
CATEGORIES:Día 2
END:VEVENT
BEGIN:VEVENT
DTSTART;TZID=America/Mexico_City:20231026T103000
DTEND;TZID=America/Mexico_City:20231026T110000
DTSTAMP:20260421T072524
CREATED:20230828T203436Z
LAST-MODIFIED:20231003T235424Z
UID:10000030-1698316200-1698318000@aminp.org.mx
SUMMARY:¿El cirujano pediatra es amigo o enemigo? Patologías quirúrgicas más frecuentesDr. José Asz Sigall
DESCRIPTION:
URL:https://aminp.org.mx/event/obesidad-prevencion-y-tratamiento-en-casa/
CATEGORIES:Día 2
END:VEVENT
BEGIN:VEVENT
DTSTART;TZID=America/Mexico_City:20231026T100000
DTEND;TZID=America/Mexico_City:20231026T103000
DTSTAMP:20260421T072524
CREATED:20230828T203458Z
LAST-MODIFIED:20231003T235523Z
UID:10000031-1698314400-1698316200@aminp.org.mx
SUMMARY:RECESO
DESCRIPTION:
URL:https://aminp.org.mx/event/receso-3/
CATEGORIES:Día 2
END:VEVENT
BEGIN:VEVENT
DTSTART;TZID=America/Mexico_City:20231026T093000
DTEND;TZID=America/Mexico_City:20231026T100000
DTSTAMP:20260421T072524
CREATED:20231003T235637Z
LAST-MODIFIED:20231004T180009Z
UID:10000054-1698312600-1698314400@aminp.org.mx
SUMMARY:¿Que más podemos hacer en la prevención de enfermedades respiratorias?Dra. Sydney Renée Greenawalt Rodríguez
DESCRIPTION:
URL:https://aminp.org.mx/event/prevencion-de-enfermedades-respiratorias-en-ninos-enfoque-integral-entedra-sydney-renee-greenawalt-rodriguez/
CATEGORIES:Día 2
END:VEVENT
BEGIN:VEVENT
DTSTART;TZID=America/Mexico_City:20231026T090000
DTEND;TZID=America/Mexico_City:20231026T130000
DTSTAMP:20260421T072524
CREATED:20230828T215216Z
LAST-MODIFIED:20231004T000420Z
UID:10000052-1698310800-1698325200@aminp.org.mx
SUMMARY:Taller | El uso seguro y eficaz de las moléculas de uso diario (Paracetamol e Ibuprofeno) en la práctica clínica. El uso responsable de los antipiréticos: ParacetamolDr. Sarbelio Moreno EspinosaManejo del dolor agudo en procesos inflamatorios: IbuprofenoDr. César Adrián Martínez LongoriaDermatitis atópica y alergiasDra. Tania Padilla Benítez
DESCRIPTION:
URL:https://aminp.org.mx/event/johnson-johnson/
CATEGORIES:Talleres
END:VEVENT
BEGIN:VEVENT
DTSTART;TZID=America/Mexico_City:20231026T090000
DTEND;TZID=America/Mexico_City:20231026T093000
DTSTAMP:20260421T072524
CREATED:20230828T203259Z
LAST-MODIFIED:20230922T053341Z
UID:10000029-1698310800-1698312600@aminp.org.mx
SUMMARY:Inmunomodulación con Factores de Transferencia en enfermedades alérgicas. Dra. Sonia Mayra Pérez Tapia
DESCRIPTION:
URL:https://aminp.org.mx/event/inmunomodulacion-con-factores-de-transferencia-en-enfermedades-alergicas/
CATEGORIES:Día 2
END:VEVENT
BEGIN:VEVENT
DTSTART;TZID=America/Mexico_City:20231026T083000
DTEND;TZID=America/Mexico_City:20231026T090000
DTSTAMP:20260421T072524
CREATED:20230828T203238Z
LAST-MODIFIED:20231003T235330Z
UID:10000028-1698309000-1698310800@aminp.org.mx
SUMMARY:Crecimiento y desarrollo ¿Qué medir y cómo hacerlo bien?Dra. Rosa Itzel Carrillo Nieto
DESCRIPTION:
URL:https://aminp.org.mx/event/crecimiento-y-desarrollo-que-medir-y-como-hacerlo-bien/
CATEGORIES:Día 2
END:VEVENT
BEGIN:VEVENT
DTSTART;TZID=America/Mexico_City:20231026T073000
DTEND;TZID=America/Mexico_City:20231026T130000
DTSTAMP:20260421T072524
CREATED:20230828T203216Z
LAST-MODIFIED:20230828T203216Z
UID:10000027-1698305400-1698325200@aminp.org.mx
SUMMARY:REGÍSTRO
DESCRIPTION:
URL:https://aminp.org.mx/event/registro-2/
CATEGORIES:Día 2
END:VEVENT
BEGIN:VEVENT
DTSTART;TZID=America/Mexico_City:20231025T133000
DTEND;TZID=America/Mexico_City:20231025T140000
DTSTAMP:20260421T072524
CREATED:20230828T203104Z
LAST-MODIFIED:20231003T235306Z
UID:10000026-1698240600-1698242400@aminp.org.mx
SUMMARY:¿Qué tanto sabes de exantemas en pediatría?Dra. María Teresa García Romero
DESCRIPTION:
URL:https://aminp.org.mx/event/que-tanto-sabes-de-exantemas-en-pediatria/
CATEGORIES:Día 1
END:VEVENT
BEGIN:VEVENT
DTSTART;TZID=America/Mexico_City:20231025T130000
DTEND;TZID=America/Mexico_City:20231025T133000
DTSTAMP:20260421T072524
CREATED:20230828T202749Z
LAST-MODIFIED:20230922T053645Z
UID:10000025-1698238800-1698240600@aminp.org.mx
SUMMARY:Disección genética e inmunológica humana de las enfermedades causadas por el virus del papiloma. Vivien Béziat (Francia)
DESCRIPTION:
URL:https://aminp.org.mx/event/abc-de-los-aines/
CATEGORIES:Día 1
END:VEVENT
BEGIN:VEVENT
DTSTART;TZID=America/Mexico_City:20231025T123000
DTEND;TZID=America/Mexico_City:20231025T130000
DTSTAMP:20260421T072524
CREATED:20230828T202716Z
LAST-MODIFIED:20231003T235247Z
UID:10000024-1698237000-1698238800@aminp.org.mx
SUMMARY:APLV Puntos clave para el diagnósticoDr. José Francisco Cadena León
DESCRIPTION:
URL:https://aminp.org.mx/event/aplv-diagnostico-facil-y-tratamiento-adecuado/
CATEGORIES:Día 1
END:VEVENT
BEGIN:VEVENT
DTSTART;TZID=America/Mexico_City:20231025T120000
DTEND;TZID=America/Mexico_City:20231025T123000
DTSTAMP:20260421T072524
CREATED:20230828T202552Z
LAST-MODIFIED:20230828T202552Z
UID:10000023-1698235200-1698237000@aminp.org.mx
SUMMARY:RECESO
DESCRIPTION:
URL:https://aminp.org.mx/event/receso-2/
CATEGORIES:Día 1
END:VEVENT
BEGIN:VEVENT
DTSTART;TZID=America/Mexico_City:20231025T113000
DTEND;TZID=America/Mexico_City:20231025T120000
DTSTAMP:20260421T072524
CREATED:20230828T202531Z
LAST-MODIFIED:20231003T235232Z
UID:10000022-1698233400-1698235200@aminp.org.mx
SUMMARY:Tamiz neonatal cardiacoDr. Jesús de Rubens Figueroa
DESCRIPTION:
URL:https://aminp.org.mx/event/formulas-infantiles-cual-es-mejor-como-empezar/
CATEGORIES:Día 1
END:VEVENT
BEGIN:VEVENT
DTSTART;TZID=America/Mexico_City:20231025T110000
DTEND;TZID=America/Mexico_City:20231025T113000
DTSTAMP:20260421T072524
CREATED:20230828T202502Z
LAST-MODIFIED:20230922T053227Z
UID:10000021-1698231600-1698233400@aminp.org.mx
SUMMARY:Cefalea en el paciente pediátrico. Dr. Guillermo Dávila Gutiérrez
DESCRIPTION:
URL:https://aminp.org.mx/event/cefalea-en-el-paciente-pediatrico/
CATEGORIES:Día 1
END:VEVENT
END:VCALENDAR